BEGIN:VCALENDAR
VERSION:2.0
METHOD:PUBLISH
BEGIN:VEVENT
DTSTAMP:20260420T212704Z
DTSTART:20251018T230000Z
DTEND:20251018T230000Z
SUMMARY:Diwali Drone Show
LOCATION:Brampton Fairgrounds (12942 Heartlake Road, Caledon)
END:VEVENT
END:VCALENDAR
