BEGIN:VCALENDAR
VERSION:2.0
METHOD:PUBLISH
BEGIN:VEVENT
DTSTAMP:20260425T161508Z
DTSTART:20260428T164500Z
DTEND:20260428T171500Z
SUMMARY:National Day of Mourning
LOCATION:6311 Old Church Road, Caledon ON
END:VEVENT
END:VCALENDAR
