BEGIN:VCALENDAR
VERSION:2.0
METHOD:PUBLISH
BEGIN:VEVENT
DTSTAMP:20260422T143914Z
DTSTART:20260502T140000Z
DTEND:20260502T190000Z
SUMMARY:High Tea and Vendor Market
LOCATION:12942 Heart Lake Road
END:VEVENT
END:VCALENDAR
